Workbook

Sheet TOTAL
A1: GENERALKA Licencja
A2: Poz. | B2: Nr | C2: Chip | D2: Zawodnik | E2: Race 1 | F2: Race 2 | G2: Race 3 | H2: Suma
A3: 1 | B3: =RACE1!B3 -> 747 | C3: =RACE1!C3 -> 53 | D3: =RACE1!D3 -> Bernard Stasiewicz | E3: =IFERROR(VLOOKUP($C3,RACE1!$C$3:$H$42,6,),0) -> 25 | F3: =IFERROR(VLOOKUP($C3,RACE2!$C$3:$H$42,6,),0) -> 25 | G3: =IFERROR(VLOOKUP($C3,RACE3!$C$3:$H$42,6,),0) -> 0 | H3: =SUM(E3:G3) -> 50
A4: 2 | B4: =RACE1!B5 -> 402 | C4: =RACE1!C5 -> 104 | D4: =RACE1!D5 -> Ariel Groński | E4: =IFERROR(VLOOKUP($C4,RACE1!$C$3:$H$42,6,),0) -> 20 | F4: =IFERROR(VLOOKUP($C4,RACE2!$C$3:$H$42,6,),0) -> 22 | G4: =IFERROR(VLOOKUP($C4,RACE3!$C$3:$H$42,6,),0) -> 0 | H4: =SUM(E4:G4) -> 42
A5: 3 | B5: =RACE1!B4 -> 49 | C5: =RACE1!C4 -> 84 | D5: =RACE1!D4 -> Krzysztof Woźniak | E5: =IFERROR(VLOOKUP($C5,RACE1!$C$3:$H$42,6,),0) -> 22 | F5: =IFERROR(VLOOKUP($C5,RACE2!$C$3:$H$42,6,),0) -> 20 | G5: =IFERROR(VLOOKUP($C5,RACE3!$C$3:$H$42,6,),0) -> 0 | H5: =SUM(E5:G5) -> 42
A6: 4 | B6: =RACE1!B6 -> 456 | C6: =RACE1!C6 -> 114 | D6: =RACE1!D6 -> Jarosław Kuklis | E6: =IFERROR(VLOOKUP($C6,RACE1!$C$3:$H$42,6,),0) -> 18 | F6: =IFERROR(VLOOKUP($C6,RACE2!$C$3:$H$42,6,),0) -> 14 | G6: =IFERROR(VLOOKUP($C6,RACE3!$C$3:$H$42,6,),0) -> 0 | H6: =SUM(E6:G6) -> 32
A7: 5 | B7: =RACE1!B9 -> 390 | C7: =RACE1!C9 -> 113 | D7: =RACE1!D9 -> Michał Sobczak | E7: =IFERROR(VLOOKUP($C7,RACE1!$C$3:$H$42,6,),0) -> 14 | F7: =IFERROR(VLOOKUP($C7,RACE2!$C$3:$H$42,6,),0) -> 16 | G7: =IFERROR(VLOOKUP($C7,RACE3!$C$3:$H$42,6,),0) -> 0 | H7: =SUM(E7:G7) -> 30
A8: 6 | B8: =RACE1!B10 -> 757 | C8: =RACE1!C10 -> 6 | D8: =RACE1!D10 -> Kuba Juszkiewicz | E8: =IFERROR(VLOOKUP($C8,RACE1!$C$3:$H$42,6,),0) -> 13 | F8: =IFERROR(VLOOKUP($C8,RACE2!$C$3:$H$42,6,),0) -> 15 | G8: =IFERROR(VLOOKUP($C8,RACE3!$C$3:$H$42,6,),0) -> 0 | H8: =SUM(E8:G8) -> 28
A9: 7 | B9: =RACE1!B8 -> 737 | C9: =RACE1!C8 -> 31 | D9: =RACE1!D8 -> Sebastian Dąbrowski | E9: =IFERROR(VLOOKUP($C9,RACE1!$C$3:$H$42,6,),0) -> 15 | F9: =IFERROR(VLOOKUP($C9,RACE2!$C$3:$H$42,6,),0) -> 13 | G9: =IFERROR(VLOOKUP($C9,RACE3!$C$3:$H$42,6,),0) -> 0 | H9: =SUM(E9:G9) -> 28
A10: 8 | B10: =RACE1!B12 -> 500 | C10: =RACE1!C12 -> 67 | D10: =RACE1!D12 -> Błażej Woźniak | E10: =IFERROR(VLOOKUP($C10,RACE1!$C$3:$H$42,6,),0) -> 11 | F10: =IFERROR(VLOOKUP($C10,RACE2!$C$3:$H$42,6,),0) -> 11 | G10: =IFERROR(VLOOKUP($C10,RACE3!$C$3:$H$42,6,),0) -> 0 | H10: =SUM(E10:G10) -> 22
A11: 9 | B11: =RACE1!B15 -> 349 | C11: =RACE1!C15 -> 87 | D11: =RACE1!D15 -> Mateusz Starzak | E11: =IFERROR(VLOOKUP($C11,RACE1!$C$3:$H$42,6,),0) -> 8 | F11: =IFERROR(VLOOKUP($C11,RACE2!$C$3:$H$42,6,),0) -> 12 | G11: =IFERROR(VLOOKUP($C11,RACE3!$C$3:$H$42,6,),0) -> 0 | H11: =SUM(E11:G11) -> 20
A12: 10 | B12: =RACE1!B13 -> 227 | C12: =RACE1!C13 -> 102 | D12: =RACE1!D13 -> Stanisław Fits | E12: =IFERROR(VLOOKUP($C12,RACE1!$C$3:$H$42,6,),0) -> 10 | F12: =IFERROR(VLOOKUP($C12,RACE2!$C$3:$H$42,6,),0) -> 10 | G12: =IFERROR(VLOOKUP($C12,RACE3!$C$3:$H$42,6,),0) -> 0 | H12: =SUM(E12:G12) -> 20
A13: 11 | B13: =RACE1!B11 -> 254 | C13: =RACE1!C11 -> 103 | D13: =RACE1!D11 -> Mikołaj Marzewski | E13: =IFERROR(VLOOKUP($C13,RACE1!$C$3:$H$42,6,),0) -> 12 | F13: =IFERROR(VLOOKUP($C13,RACE2!$C$3:$H$42,6,),0) -> 8 | G13: =IFERROR(VLOOKUP($C13,RACE3!$C$3:$H$42,6,),0) -> 0 | H13: =SUM(E13:G13) -> 20
A14: 12 | B14: =RACE1!B24 -> 767 | C14: =RACE1!C24 -> 32 | D14: =RACE1!D24 -> Dawid Słaby | E14: =IFERROR(VLOOKUP($C14,RACE1!$C$3:$H$42,6,),0) -> 0 | F14: =IFERROR(VLOOKUP($C14,RACE2!$C$3:$H$42,6,),0) -> 18 | G14: =IFERROR(VLOOKUP($C14,RACE3!$C$3:$H$42,6,),0) -> 0 | H14: =SUM(E14:G14) -> 18
A15: 13 | B15: =RACE1!B14 -> 84 | C15: =RACE1!C14 -> 21 | D15: =RACE1!D14 -> Karol Smolarek | E15: =IFERROR(VLOOKUP($C15,RACE1!$C$3:$H$42,6,),0) -> 9 | F15: =IFERROR(VLOOKUP($C15,RACE2!$C$3:$H$42,6,),0) -> 9 | G15: =IFERROR(VLOOKUP($C15,RACE3!$C$3:$H$42,6,),0) -> 0 | H15: =SUM(E15:G15) -> 18
A16: 14 | B16: =RACE1!B7 -> 785 | C16: =RACE1!C7 -> 75 | D16: =RACE1!D7 -> Nazar Parnicki | E16: =IFERROR(VLOOKUP($C16,RACE1!$C$3:$H$42,6,),0) -> 16 | F16: =IFERROR(VLOOKUP($C16,RACE2!$C$3:$H$42,6,),0) -> 0 | G16: =IFERROR(VLOOKUP($C16,RACE3!$C$3:$H$42,6,),0) -> 0 | H16: =SUM(E16:G16) -> 16
A17: 15 | B17: =RACE1!B16 -> 13 | C17: =RACE1!C16 -> 71 | D17: =RACE1!D16 -> Jan Borkowski | E17: =IFERROR(VLOOKUP($C17,RACE1!$C$3:$H$42,6,),0) -> 7 | F17: =IFERROR(VLOOKUP($C17,RACE2!$C$3:$H$42,6,),0) -> 7 | G17: =IFERROR(VLOOKUP($C17,RACE3!$C$3:$H$42,6,),0) -> 0 | H17: =SUM(E17:G17) -> 14
A18: 16 | B18: =RACE1!B17 -> 971 | C18: =RACE1!C17 -> 17 | D18: =RACE1!D17 -> Olaf Olszewski | E18: =IFERROR(VLOOKUP($C18,RACE1!$C$3:$H$42,6,),0) -> 6 | F18: =IFERROR(VLOOKUP($C18,RACE2!$C$3:$H$42,6,),0) -> 6 | G18: =IFERROR(VLOOKUP($C18,RACE3!$C$3:$H$42,6,),0) -> 0 | H18: =SUM(E18:G18) -> 12
A19: 17 | B19: =RACE1!B20 -> 44 | C19: =RACE1!C20 -> 86 | D19: =RACE1!D20 -> Marek Moradi | E19: =IFERROR(VLOOKUP($C19,RACE1!$C$3:$H$42,6,),0) -> 3 | F19: =IFERROR(VLOOKUP($C19,RACE2!$C$3:$H$42,6,),0) -> 5 | G19: =IFERROR(VLOOKUP($C19,RACE3!$C$3:$H$42,6,),0) -> 0 | H19: =SUM(E19:G19) -> 8
A20: 18 | B20: =RACE1!B18 -> 717 | C20: =RACE1!C18 -> 52 | D20: =RACE1!D18 -> Artur Sheuchenko | E20: =IFERROR(VLOOKUP($C20,RACE1!$C$3:$H$42,6,),0) -> 5 | F20: =IFERROR(VLOOKUP($C20,RACE2!$C$3:$H$42,6,),0) -> 3 | G20: =IFERROR(VLOOKUP($C20,RACE3!$C$3:$H$42,6,),0) -> 0 | H20: =SUM(E20:G20) -> 8
A21: 19 | B21: =RACE1!B21 -> 541 | C21: =RACE1!C21 -> 19 | D21: =RACE1!D21 -> Marcel Milewski | E21: =IFERROR(VLOOKUP($C21,RACE1!$C$3:$H$42,6,),0) -> 2 | F21: =IFERROR(VLOOKUP($C21,RACE2!$C$3:$H$42,6,),0) -> 4 | G21: =IFERROR(VLOOKUP($C21,RACE3!$C$3:$H$42,6,),0) -> 0 | H21: =SUM(E21:G21) -> 6
A22: 20 | B22: =RACE1!B19 -> 727 | C22: =RACE1!C19 -> 55 | D22: =RACE1!D19 -> Roman Ryś | E22: =IFERROR(VLOOKUP($C22,RACE1!$C$3:$H$42,6,),0) -> 4 | F22: =IFERROR(VLOOKUP($C22,RACE2!$C$3:$H$42,6,),0) -> 2 | G22: =IFERROR(VLOOKUP($C22,RACE3!$C$3:$H$42,6,),0) -> 0 | H22: =SUM(E22:G22) -> 6
A23: 21 | B23: =RACE1!B22 -> 118 | C23: =RACE1!C22 -> 81 | D23: =RACE1!D22 -> Mieczysław Łagowski | E23: =IFERROR(VLOOKUP($C23,RACE1!$C$3:$H$42,6,),0) -> 1 | F23: =IFERROR(VLOOKUP($C23,RACE2!$C$3:$H$42,6,),0) -> 1 | G23: =IFERROR(VLOOKUP($C23,RACE3!$C$3:$H$42,6,),0) -> 0 | H23: =SUM(E23:G23) -> 2
A24: 22 | B24: =RACE1!B23 -> 311 | C24: =RACE1!C23 -> 22 | D24: =RACE1!D23 -> Bartosz Smolarek | E24: =IFERROR(VLOOKUP($C24,RACE1!$C$3:$H$42,6,),0) -> 0 | F24: =IFERROR(VLOOKUP($C24,RACE2!$C$3:$H$42,6,),0) -> 0 | G24: =IFERROR(VLOOKUP($C24,RACE3!$C$3:$H$42,6,),0) -> 0 | H24: =SUM(E24:G24) -> 0
A25: 23 | B25: =RACE1!B25 -> 0 | C25: =RACE1!C25 -> 0 | D25: =RACE1!D25 -> 0 | E25: =IFERROR(VLOOKUP($C25,RACE1!$C$3:$H$42,6,),0) -> 0 | F25: =IFERROR(VLOOKUP($C25,RACE2!$C$3:$H$42,6,),0) -> 0 | G25: =IFERROR(VLOOKUP($C25,RACE3!$C$3:$H$42,6,),0) -> 0 | H25: =SUM(E25:G25) -> 0
A26: 24 | B26: =RACE1!B26 -> 0 | C26: =RACE1!C26 -> 0 | D26: =RACE1!D26 -> 0 | E26: =IFERROR(VLOOKUP($C26,RACE1!$C$3:$H$42,6,),0) -> 0 | F26: =IFERROR(VLOOKUP($C26,RACE2!$C$3:$H$42,6,),0) -> 0 | G26: =IFERROR(VLOOKUP($C26,RACE3!$C$3:$H$42,6,),0) -> 0 | H26: =SUM(E26:G26) -> 0
A27: 25 | B27: =RACE1!B27 -> 0 | C27: =RACE1!C27 -> 0 | D27: =RACE1!D27 -> 0 | E27: =IFERROR(VLOOKUP($C27,RACE1!$C$3:$H$42,6,),0) -> 0 | F27: =IFERROR(VLOOKUP($C27,RACE2!$C$3:$H$42,6,),0) -> 0 | G27: =IFERROR(VLOOKUP($C27,RACE3!$C$3:$H$42,6,),0) -> 0 | H27: =SUM(E27:G27) -> 0
A28: 26 | B28: =RACE1!B28 -> 0 | C28: =RACE1!C28 -> 0 | D28: =RACE1!D28 -> 0 | E28: =IFERROR(VLOOKUP($C28,RACE1!$C$3:$H$42,6,),0) -> 0 | F28: =IFERROR(VLOOKUP($C28,RACE2!$C$3:$H$42,6,),0) -> 0 | G28: =IFERROR(VLOOKUP($C28,RACE3!$C$3:$H$42,6,),0) -> 0 | H28: =SUM(E28:G28) -> 0
A29: 27 | B29: =RACE1!B29 -> 0 | C29: =RACE1!C29 -> 0 | D29: =RACE1!D29 -> 0 | E29: =IFERROR(VLOOKUP($C29,RACE1!$C$3:$H$42,6,),0) -> 0 | F29: =IFERROR(VLOOKUP($C29,RACE2!$C$3:$H$42,6,),0) -> 0 | G29: =IFERROR(VLOOKUP($C29,RACE3!$C$3:$H$42,6,),0) -> 0 | H29: =SUM(E29:G29) -> 0
A30: 28 | B30: =RACE1!B30 -> 0 | C30: =RACE1!C30 -> 0 | D30: =RACE1!D30 -> 0 | E30: =IFERROR(VLOOKUP($C30,RACE1!$C$3:$H$42,6,),0) -> 0 | F30: =IFERROR(VLOOKUP($C30,RACE2!$C$3:$H$42,6,),0) -> 0 | G30: =IFERROR(VLOOKUP($C30,RACE3!$C$3:$H$42,6,),0) -> 0 | H30: =SUM(E30:G30) -> 0
A31: 29 | B31: =RACE1!B31 -> 0 | C31: =RACE1!C31 -> 0 | D31: =RACE1!D31 -> 0 | E31: =IFERROR(VLOOKUP($C31,RACE1!$C$3:$H$42,6,),0) -> 0 | F31: =IFERROR(VLOOKUP($C31,RACE2!$C$3:$H$42,6,),0) -> 0 | G31: =IFERROR(VLOOKUP($C31,RACE3!$C$3:$H$42,6,),0) -> 0 | H31: =SUM(E31:G31) -> 0
A32: 30 | B32: =RACE1!B32 -> 0 | C32: =RACE1!C32 -> 0 | D32: =RACE1!D32 -> 0 | E32: =IFERROR(VLOOKUP($C32,RACE1!$C$3:$H$42,6,),0) -> 0 | F32: =IFERROR(VLOOKUP($C32,RACE2!$C$3:$H$42,6,),0) -> 0 | G32: =IFERROR(VLOOKUP($C32,RACE3!$C$3:$H$42,6,),0) -> 0 | H32: =SUM(E32:G32) -> 0
A33: 31 | B33: =RACE1!B33 -> 0 | C33: =RACE1!C33 -> 0 | D33: =RACE1!D33 -> 0 | E33: =IFERROR(VLOOKUP($C33,RACE1!$C$3:$H$42,6,),0) -> 0 | F33: =IFERROR(VLOOKUP($C33,RACE2!$C$3:$H$42,6,),0) -> 0 | G33: =IFERROR(VLOOKUP($C33,RACE3!$C$3:$H$42,6,),0) -> 0 | H33: =SUM(E33:G33) -> 0
A34: 32 | B34: =RACE1!B34 -> 0 | C34: =RACE1!C34 -> 0 | D34: =RACE1!D34 -> 0 | E34: =IFERROR(VLOOKUP($C34,RACE1!$C$3:$H$42,6,),0) -> 0 | F34: =IFERROR(VLOOKUP($C34,RACE2!$C$3:$H$42,6,),0) -> 0 | G34: =IFERROR(VLOOKUP($C34,RACE3!$C$3:$H$42,6,),0) -> 0 | H34: =SUM(E34:G34) -> 0
A35: 33 | B35: =RACE1!B35 -> 0 | C35: =RACE1!C35 -> 0 | D35: =RACE1!D35 -> 0 | E35: =IFERROR(VLOOKUP($C35,RACE1!$C$3:$H$42,6,),0) -> 0 | F35: =IFERROR(VLOOKUP($C35,RACE2!$C$3:$H$42,6,),0) -> 0 | G35: =IFERROR(VLOOKUP($C35,RACE3!$C$3:$H$42,6,),0) -> 0 | H35: =SUM(E35:G35) -> 0
A36: 34 | B36: =RACE1!B36 -> 0 | C36: =RACE1!C36 -> 0 | D36: =RACE1!D36 -> 0 | E36: =IFERROR(VLOOKUP($C36,RACE1!$C$3:$H$42,6,),0) -> 0 | F36: =IFERROR(VLOOKUP($C36,RACE2!$C$3:$H$42,6,),0) -> 0 | G36: =IFERROR(VLOOKUP($C36,RACE3!$C$3:$H$42,6,),0) -> 0 | H36: =SUM(E36:G36) -> 0
... A42: 40 | B42: =RACE1!B42 -> 0 | C42: =RACE1!C42 -> 0 | D42: =RACE1!D42 -> 0 | E42: =IFERROR(VLOOKUP($C42,RACE1!$C$3:$H$42,6,),0) -> 0 | F42: =IFERROR(VLOOKUP($C42,RACE2!$C$3:$H$42,6,),0) -> 0 | G42: =IFERROR(VLOOKUP($C42,RACE3!$C$3:$H$42,6,),0) -> 0 | H42: =SUM(E42:G42) -> 0

Sheet RACE1
A1: RACE 1
A2: Poz. | B2: Nr | C2: Chip | D2: Zawodnik | E2: Klub | F2: Ilosc Okrazen | G2: Czas Ukonczenia | H2: PKT
A3: 1 | B3: 747 | C3: 53 | D3: Bernard Stasiewicz | F3: 15 | G3: 20:08.63 | H3: 25
A4: 2 | B4: 49 | C4: 84 | D4: Krzysztof Woźniak | F4: 15 | G4: 20:12.84 | H4: 22
A5: 3 | B5: 402 | C5: 104 | D5: Ariel Groński | F5: 15 | G5: 20:17.24 | H5: 20
A6: 4 | B6: 456 | C6: 114 | D6: Jarosław Kuklis | F6: 15 | G6: 20:33.53 | H6: 18
A7: 5 | B7: 785 | C7: 75 | D7: Nazar Parnicki | F7: 15 | G7: 20:37.49 | H7: 16
A8: 6 | B8: 737 | C8: 31 | D8: Sebastian Dąbrowski | F8: 15 | G8: 20:38.86 | H8: 15
A9: 7 | B9: 390 | C9: 113 | D9: Michał Sobczak | F9: 15 | G9: 20:45.27 | H9: 14
A10: 8 | B10: 757 | C10: 6 | D10: Kuba Juszkiewicz | F10: 15 | G10: 21:18.06 | H10: 13
A11: 9 | B11: 254 | C11: 103 | D11: Mikołaj Marzewski | F11: 15 | G11: 21:21.28 | H11: 12
A12: 10 | B12: 500 | C12: 67 | D12: Błażej Woźniak | F12: 15 | G12: 21:22.24 | H12: 11
A13: 11 | B13: 227 | C13: 102 | D13: Stanisław Fits | F13: 15 | G13: 21:26.61 | H13: 10
A14: 12 | B14: 84 | C14: 21 | D14: Karol Smolarek | F14: 14 | G14: 20:10.35 | H14: 9
... A24: 22 | B24: 767 | C24: 32 | D24: Dawid Słaby | F24: 1 | G24: 01:56.12 | H24: 0
A25: 23 | H25: 0
A26: 24 | H26: 0
A27: 25 | H27: 0
A28: 26 | H28: 0
A29: 27 | H29: 0
A30: 28 | H30: 0
A31: 29 | H31: 0
A32: 30 | H32: 0
A33: 31 | H33: 0
A34: 32 | H34: 0
A35: 33 | H35: 0
A36: 34 | H36: 0
... A42: 40 | H42: 0

Sheet RACE2
A1: RACE 2
A2: Poz. | B2: Nr | C2: Chip | D2: Zawodnik | E2: Klub | F2: Ilosc Okrazen | G2: Czas Ukonczenia | H2: PKT
A3: 1 | B3: 747 | C3: 53 | D3: Bernard Stasiewicz | F3: 16 | G3: 21:22.29 | H3: 25
A4: 2 | B4: 402 | C4: 104 | D4: Ariel Groński | F4: 15 | G4: 20:15.18 | H4: 22
A5: 3 | B5: 49 | C5: 84 | D5: Krzysztof Woźniak | F5: 15 | G5: 20:16.85 | H5: 20
A6: 4 | B6: 767 | C6: 32 | D6: Dawid Słaby | F6: 15 | G6: 20:38.49 | H6: 18
A7: 5 | B7: 390 | C7: 113 | D7: Michał Sobczak | F7: 15 | G7: 20:41.47 | H7: 16
A8: 6 | B8: 757 | C8: 6 | D8: Kuba Juszkiewicz | F8: 15 | G8: 20:45.90 | H8: 15
A9: 7 | B9: 456 | C9: 114 | D9: Jarosław Kuklis | F9: 15 | G9: 20:47.65 | H9: 14
A10: 8 | B10: 737 | C10: 31 | D10: Sebastian Dąbrowski | F10: 15 | G10: 20:51.85 | H10: 13
A11: 9 | B11: 349 | C11: 87 | D11: Mateusz Starzak | F11: 15 | G11: 21:13.32 | H11: 12
A12: 10 | B12: 500 | C12: 67 | D12: Błażej Woźniak | F12: 14 | G12: 20:20.98 | H12: 11
A13: 11 | B13: 227 | C13: 102 | D13: Stanisław Fits | F13: 14 | G13: 20:30.00 | H13: 10
A14: 12 | B14: 84 | C14: 21 | D14: Karol Smolarek | F14: 14 | G14: 20:53.93 | H14: 9
... A24: 22 | B24: 785 | C24: 75 | D24: Nazar Parnicki | F24: 0 | G24: 00:00.00 | H24: 0
A25: 23 | H25: 0
A26: 24 | H26: 0
A27: 25 | H27: 0
A28: 26 | H28: 0
A29: 27 | H29: 0
A30: 28 | H30: 0
A31: 29 | H31: 0
A32: 30 | H32: 0
A33: 31 | H33: 0
A34: 32 | H34: 0
A35: 33 | H35: 0
A36: 34 | H36: 0
... A42: 40 | H42: 0

Sheet RACE3
A1: RACE 3
A2: Poz. | B2: Nr | C2: Chip | D2: Zawodnik | E2: Klub | F2: Ilosc Okrazen | G2: Czas Ukonczenia | H2: PUNKTY
A3: 1 | H3: 25
A4: 2 | H4: 22
A5: 3 | H5: 20
A6: 4 | H6: 18
A7: 5 | H7: 16
A8: 6 | H8: 15
A9: 7 | H9: 14
A10: 8 | H10: 13
A11: 9 | H11: 12
A12: 10 | H12: 11
A13: 11 | H13: 10
A14: 12 | H14: 9
... A42: 40 | H42: 0
